BEGIN:VCALENDAR
VERSION:2.0
PRODID:-//sebbo.net//ical-generator//EN
METHOD:PUBLISH
NAME:Exam
X-WR-CALNAME:Exam
BEGIN:VTIMEZONE
TZID:Europe/Vienna
TZURL:http://tzurl.org/zoneinfo-outlook/Europe/Vienna
X-LIC-LOCATION:Europe/Vienna
BEGIN:DAYLIGHT
TZOFFSETFROM:+0100
TZOFFSETTO:+0200
TZNAME:CEST
DTSTART:19700329T020000
RRULE:FREQ=YEARLY;BYMONTH=3;BYDAY=-1SU
END:DAYLIGHT
BEGIN:STANDARD
TZOFFSETFROM:+0200
TZOFFSETTO:+0100
TZNAME:CET
DTSTART:19701025T030000
RRULE:FREQ=YEARLY;BYMONTH=10;BYDAY=-1SU
END:STANDARD
END:VTIMEZONE
BEGIN:VEVENT
UID:f3811ef2-fe9f-4594-8549-940096d984aa
SEQUENCE:0
DTSTAMP:20250322T102124Z
DTSTART;TZID=Europe/Vienna:20241022T122500
DTEND;TZID=Europe/Vienna:20241022T131500
SUMMARY:BWM_1
LOCATION:Z305
DESCRIPTION:
END:VEVENT
BEGIN:VEVENT
UID:dc0a1cdf-3255-42bb-9bac-82a898222973
SEQUENCE:0
DTSTAMP:20250322T102124Z
DTSTART;TZID=Europe/Vienna:20241023T151500
DTEND;TZID=Europe/Vienna:20241023T160500
SUMMARY:SYP1
LOCATION:Z305
DESCRIPTION:
END:VEVENT
BEGIN:VEVENT
UID:2f98ef43-ea27-4c53-bf7e-8433ba5eb563
SEQUENCE:0
DTSTAMP:20250322T102124Z
DTSTART;TZID=Europe/Vienna:20241112T122500
DTEND;TZID=Europe/Vienna:20241112T131500
SUMMARY:BWM_1
LOCATION:Z305
DESCRIPTION:
END:VEVENT
BEGIN:VEVENT
UID:1ff949f4-346d-465b-bd26-9cafd943fd26
SEQUENCE:0
DTSTAMP:20250322T102124Z
DTSTART;TZID=Europe/Vienna:20241118T132500
DTEND;TZID=Europe/Vienna:20241118T151000
SUMMARY:POS1
LOCATION:Z210
DESCRIPTION:
END:VEVENT
BEGIN:VEVENT
UID:003a4fb5-8fe3-44f0-8cbc-bc07a89f52ac
SEQUENCE:0
DTSTAMP:20250322T102124Z
DTSTART;TZID=Europe/Vienna:20241119T103500
DTEND;TZID=Europe/Vienna:20241119T122000
SUMMARY:D
LOCATION:Z217
DESCRIPTION:
END:VEVENT
BEGIN:VEVENT
UID:04fe0416-ff3b-449b-9947-52ead8cd042e
SEQUENCE:0
DTSTAMP:20250322T102124Z
DTSTART;TZID=Europe/Vienna:20241126T103500
DTEND;TZID=Europe/Vienna:20241126T122000
SUMMARY:E1
LOCATION:Z114
DESCRIPTION:
END:VEVENT
BEGIN:VEVENT
UID:2768c893-bbbc-4fd9-8261-72dac68c7228
SEQUENCE:0
DTSTAMP:20250322T102124Z
DTSTART;TZID=Europe/Vienna:20241129T103500
DTEND;TZID=Europe/Vienna:20241129T122000
SUMMARY:AM
LOCATION:Z109
DESCRIPTION:
END:VEVENT
BEGIN:VEVENT
UID:497c3e86-46c8-4f17-8ef0-b9a64a69f907
SEQUENCE:0
DTSTAMP:20250322T102124Z
DTSTART;TZID=Europe/Vienna:20241204T093500
DTEND;TZID=Europe/Vienna:20241204T102500
SUMMARY:NSCS_1
LOCATION:Z305
DESCRIPTION:
END:VEVENT
BEGIN:VEVENT
UID:359f9f1c-ba8a-4633-b27b-bd166e1a2cab
SEQUENCE:0
DTSTAMP:20250322T102124Z
DTSTART;TZID=Europe/Vienna:20241206T093500
DTEND;TZID=Europe/Vienna:20241206T102500
SUMMARY:DBI_1
LOCATION:Z305
DESCRIPTION:
END:VEVENT
BEGIN:VEVENT
UID:790615c9-2dc4-4280-a802-92bfc695e17a
SEQUENCE:0
DTSTAMP:20250322T102124Z
DTSTART;TZID=Europe/Vienna:20241210T075000
DTEND;TZID=Europe/Vienna:20241210T084000
SUMMARY:DSAI_1
DESCRIPTION:
END:VEVENT
BEGIN:VEVENT
UID:d5647eb6-e367-4285-845e-ff143bb92141
SEQUENCE:0
DTSTAMP:20250322T102124Z
DTSTART;TZID=Europe/Vienna:20241217T122500
DTEND;TZID=Europe/Vienna:20241217T131500
SUMMARY:BWM_1
LOCATION:Z305
DESCRIPTION:
END:VEVENT
BEGIN:VEVENT
UID:a08c5894-738b-4f95-96ce-c9c1980501e5
SEQUENCE:0
DTSTAMP:20250322T102124Z
DTSTART;TZID=Europe/Vienna:20250110T103500
DTEND;TZID=Europe/Vienna:20250110T112500
SUMMARY:SYP1
LOCATION:Z310
DESCRIPTION:
END:VEVENT
BEGIN:VEVENT
UID:3973a04f-8b61-46cc-86aa-64a7219d1c62
SEQUENCE:0
DTSTAMP:20250322T102124Z
DTSTART;TZID=Europe/Vienna:20250113T132500
DTEND;TZID=Europe/Vienna:20250113T151000
SUMMARY:DBI_1
LOCATION:Z211
DESCRIPTION:
END:VEVENT
BEGIN:VEVENT
UID:77dcb25c-6edd-409a-bd7b-8f1b755f50f4
SEQUENCE:0
DTSTAMP:20250322T102124Z
DTSTART;TZID=Europe/Vienna:20250114T122500
DTEND;TZID=Europe/Vienna:20250114T131500
SUMMARY:BWM_1
LOCATION:Z305
DESCRIPTION:
END:VEVENT
BEGIN:VEVENT
UID:0e7a9504-e816-44a0-a564-248c1ec0a363
SEQUENCE:0
DTSTAMP:20250322T102124Z
DTSTART;TZID=Europe/Vienna:20250115T103500
DTEND;TZID=Europe/Vienna:20250115T112500
SUMMARY:WMC_1
LOCATION:Z213
DESCRIPTION:
END:VEVENT
BEGIN:VEVENT
UID:9638ef69-e16c-424d-81e7-f286fbe344aa
SEQUENCE:0
DTSTAMP:20250322T102124Z
DTSTART;TZID=Europe/Vienna:20250120T132500
DTEND;TZID=Europe/Vienna:20250120T151000
SUMMARY:POS1
LOCATION:Z210
DESCRIPTION:
END:VEVENT
BEGIN:VEVENT
UID:df22ea45-ef38-4955-9c5d-21930bb0b75f
SEQUENCE:0
DTSTAMP:20250322T102124Z
DTSTART;TZID=Europe/Vienna:20250121T075000
DTEND;TZID=Europe/Vienna:20250121T084000
SUMMARY:GGP
DESCRIPTION:
END:VEVENT
BEGIN:VEVENT
UID:be6f7420-0240-49a6-974d-4aa6f25ba23c
SEQUENCE:0
DTSTAMP:20250322T102124Z
DTSTART;TZID=Europe/Vienna:20250122T142000
DTEND;TZID=Europe/Vienna:20250122T151000
SUMMARY:WMC_1
LOCATION:Z210
DESCRIPTION:
END:VEVENT
BEGIN:VEVENT
UID:26361f81-f93b-40ba-8cd8-6bd7a0e12182
SEQUENCE:0
DTSTAMP:20250322T102124Z
DTSTART;TZID=Europe/Vienna:20250310T132500
DTEND;TZID=Europe/Vienna:20250310T151000
SUMMARY:POS1
LOCATION:Z202
DESCRIPTION:
END:VEVENT
BEGIN:VEVENT
UID:582c763d-4ce1-4729-929a-ba8307b2d3e5
SEQUENCE:0
DTSTAMP:20250322T102124Z
DTSTART;TZID=Europe/Vienna:20250324T075000
DTEND;TZID=Europe/Vienna:20250324T093000
SUMMARY:D
LOCATION:Z207
DESCRIPTION:
END:VEVENT
BEGIN:VEVENT
UID:0890051f-edfd-4208-8d2d-076d9deda338
SEQUENCE:0
DTSTAMP:20250322T102124Z
DTSTART;TZID=Europe/Vienna:20250325T122500
DTEND;TZID=Europe/Vienna:20250325T131500
SUMMARY:BWM_1
LOCATION:Z305
DESCRIPTION:
END:VEVENT
BEGIN:VEVENT
UID:1773dfa3-421f-4d28-ba81-11c16ffafa79
SEQUENCE:0
DTSTAMP:20250322T102124Z
DTSTART;TZID=Europe/Vienna:20250328T103500
DTEND;TZID=Europe/Vienna:20250328T122000
SUMMARY:AM
LOCATION:Z109
DESCRIPTION:
END:VEVENT
BEGIN:VEVENT
UID:6a4720bd-376a-4a59-a9a6-2a537e042db2
SEQUENCE:0
DTSTAMP:20250322T102124Z
DTSTART;TZID=Europe/Vienna:20250331T132500
DTEND;TZID=Europe/Vienna:20250331T151000
SUMMARY:DBI_1
LOCATION:Z211
DESCRIPTION:
END:VEVENT
BEGIN:VEVENT
UID:c3a20f35-1520-4110-bf62-bf4db5064018
SEQUENCE:0
DTSTAMP:20250322T102124Z
DTSTART;TZID=Europe/Vienna:20250404T103500
DTEND;TZID=Europe/Vienna:20250404T112500
SUMMARY:SYP1
LOCATION:Z310
DESCRIPTION:
END:VEVENT
BEGIN:VEVENT
UID:31b37529-1170-4504-ac7d-87c3eb5eb03a
SEQUENCE:0
DTSTAMP:20250322T102124Z
DTSTART;TZID=Europe/Vienna:20250408T122500
DTEND;TZID=Europe/Vienna:20250408T131500
SUMMARY:BWM_1
LOCATION:Z305
DESCRIPTION:
END:VEVENT
BEGIN:VEVENT
UID:d8878463-d29e-4ac5-839e-56b9ee6f9901
SEQUENCE:0
DTSTAMP:20250322T102124Z
DTSTART;TZID=Europe/Vienna:20250428T075000
DTEND;TZID=Europe/Vienna:20250428T093000
SUMMARY:D
DESCRIPTION:
END:VEVENT
BEGIN:VEVENT
UID:1360ca0e-8952-415a-a8a3-6ab667e20190
SEQUENCE:0
DTSTAMP:20250322T102124Z
DTSTART;TZID=Europe/Vienna:20250519T161000
DTEND;TZID=Europe/Vienna:20250519T170000
SUMMARY:DBI_1
LOCATION:Z211
DESCRIPTION:
END:VEVENT
BEGIN:VEVENT
UID:50946038-350f-433d-a04c-6b61cf59d226
SEQUENCE:0
DTSTAMP:20250322T102124Z
DTSTART;TZID=Europe/Vienna:20250520T075000
DTEND;TZID=Europe/Vienna:20250520T084000
SUMMARY:DSAI_1
LOCATION:Z310
DESCRIPTION:
END:VEVENT
BEGIN:VEVENT
UID:4c76b8fb-3d0e-41c1-bc87-e3c92f202dd1
SEQUENCE:0
DTSTAMP:20250322T102124Z
DTSTART;TZID=Europe/Vienna:20250523T075000
DTEND;TZID=Europe/Vienna:20250523T084000
SUMMARY:DBI_1
LOCATION:Z310
DESCRIPTION:
END:VEVENT
BEGIN:VEVENT
UID:c987554f-ccf8-4ad9-aaa7-21f5149c4193
SEQUENCE:0
DTSTAMP:20250322T102124Z
DTSTART;TZID=Europe/Vienna:20250526T132500
DTEND;TZID=Europe/Vienna:20250526T151000
SUMMARY:POS1
LOCATION:Z210
DESCRIPTION:
END:VEVENT
BEGIN:VEVENT
UID:611cc4f3-26bd-4708-be45-5604f53fd290
SEQUENCE:0
DTSTAMP:20250322T102124Z
DTSTART;TZID=Europe/Vienna:20250528T142000
DTEND;TZID=Europe/Vienna:20250528T151000
SUMMARY:WMC_1
LOCATION:Z211
DESCRIPTION:
END:VEVENT
BEGIN:VEVENT
UID:a4cedb91-4055-4a69-a932-8f622c956f2e
SEQUENCE:0
DTSTAMP:20250322T102124Z
DTSTART;TZID=Europe/Vienna:20250530T103500
DTEND;TZID=Europe/Vienna:20250530T112500
SUMMARY:SYP1
LOCATION:Z310
DESCRIPTION:
END:VEVENT
BEGIN:VEVENT
UID:6dd33139-7266-4c00-ad9d-590fbdd6207d
SEQUENCE:0
DTSTAMP:20250322T102124Z
DTSTART;TZID=Europe/Vienna:20250602T075000
DTEND;TZID=Europe/Vienna:20250602T084000
SUMMARY:GGP
LOCATION:Z310
DESCRIPTION:
END:VEVENT
BEGIN:VEVENT
UID:84485a3e-ec20-4430-8186-57655cc7aa24
SEQUENCE:0
DTSTAMP:20250322T102124Z
DTSTART;TZID=Europe/Vienna:20250604T103500
DTEND;TZID=Europe/Vienna:20250604T112500
SUMMARY:WMC_1
LOCATION:Z305
DESCRIPTION:
END:VEVENT
END:VCALENDAR